BEGIN:VCALENDAR
VERSION:2.0
PRODID:-//Kamra tal-Periti - ECPv5.16.2.1//NONSGML v1.0//EN
CALSCALE:GREGORIAN
METHOD:PUBLISH
X-WR-CALNAME:Kamra tal-Periti
X-ORIGINAL-URL:https://kamratalperiti.org
X-WR-CALDESC:Events for Kamra tal-Periti
BEGIN:VTIMEZONE
TZID:Europe/Malta
BEGIN:DAYLIGHT
TZOFFSETFROM:+0100
TZOFFSETTO:+0200
TZNAME:CEST
DTSTART:20180325T010000
END:DAYLIGHT
BEGIN:STANDARD
TZOFFSETFROM:+0200
TZOFFSETTO:+0100
TZNAME:CET
DTSTART:20181028T010000
END:STANDARD
END:VTIMEZONE
BEGIN:VEVENT
DTSTART;VALUE=DATE:20180902
DTEND;VALUE=DATE:20180908
DTSTAMP:20260423T085353
CREATED:20180705T125720Z
LAST-MODIFIED:20180706T092347Z
UID:5854-1535846400-1536364799@kamratalperiti.org
SUMMARY:36th General Assembly of the European Seismological Commission
DESCRIPTION:The Department of Geosciences of the University of Malta is pleased to invite seismologists\, geologists and engineers to the 36th General Assembly of the European Seismological Commission (GA ESC) that will be held from the 2nd to the 7th September 2018 in Valletta\, Malta.\n  \nThe Assembly is primarily a meeting ground for academics and researchers working in the field of seismology and related applications\, including applied and social aspects of seismology\, such as earthquake hazard and risk\, earthquake engineering\, education and awareness\, and risk prevention.\n\n\nSessions and abstracts\nOver 40 sessions have been proposed covering different areas of seismology and more. Over 1\,000 abstracts have been submitted. Have a look at the list of sessions and their summary here. The abstract submission process has closed on 16th April.\n\n\nPreliminary programme\nThe preliminary programme is now available. You can download the full PDF here\, or click on the images below.\nFor more information please visit the Sessions page. \nParticipation Fee\nNormal price: €450 \nPaid\, Graduate and Retired members price: €100 (login to website to benefit from discount) \nStudent members price: Please contact the Kamra on info@kamratalperiti.org for more information \n\n\n\n	Related
URL:https://kamratalperiti.org/event/36th-general-assembly-of-the-european-seismological-commission/
LOCATION:Mediterranean Conference Centre\, Triq l-Isptar\, Valletta\, VLT 1645\, Malta
CATEGORIES:Conference
ATTACH;FMTTYPE=image/jpeg:https://kamratalperiti.org/wp-content/uploads/europeanseismologicalcommission.jpg
ORGANIZER;CN="Department%20of%20Geosciences":MAILTO:pauline.galea@um.edu.mt
END:VEVENT
END:VCALENDAR