BEGIN:VCALENDAR
VERSION:2.0
PRODID:-//Kamra tal-Periti - ECPv5.16.2.1//NONSGML v1.0//EN
CALSCALE:GREGORIAN
METHOD:PUBLISH
X-WR-CALNAME:Kamra tal-Periti
X-ORIGINAL-URL:https://kamratalperiti.org
X-WR-CALDESC:Events for Kamra tal-Periti
BEGIN:VTIMEZONE
TZID:Europe/Malta
BEGIN:DAYLIGHT
TZOFFSETFROM:+0100
TZOFFSETTO:+0200
TZNAME:CEST
DTSTART:20180325T010000
END:DAYLIGHT
BEGIN:STANDARD
TZOFFSETFROM:+0200
TZOFFSETTO:+0100
TZNAME:CET
DTSTART:20181028T010000
END:STANDARD
END:VTIMEZONE
BEGIN:VEVENT
DTSTART;TZID=Europe/Malta:20180927T180000
DTEND;TZID=Europe/Malta:20180927T203000
DTSTAMP:20260423T084542
CREATED:20180903T085157Z
LAST-MODIFIED:20180918T132637Z
UID:5954-1538071200-1538080200@kamratalperiti.org
SUMMARY:Design Workshop for Periti
DESCRIPTION:The preamble to DC15 describes it as a “positive document” intended to “enable innovative and creative urban and architectural designs that are framed within the important urban design parameters\, which in turn are tailor-made to the unique Maltese territory\, its urban areas and landscape.” It also states that DC15 is intended to “encourage and stimulate urban and architectural design that is respectful of\, and that enriches\, its existing context while also being forward-looking\, quality-oriented and energy-conscious.“ \nThree years down the line\, has the planning process achieved these ideals? Has it supported these goals\, or has it hindered their achievement? Are these objectives being promoted or are other interests taking precedence? \nThe Kamra tal-Periti invites you to a workshop for Periti to discuss these issues and to analyse the current state of play in terms of quality of the built environment. \nPeriti are invited to submit examples of situations where planning policies and procedures were instrumental in achieving a better quality design proposal\, and where they were a hindrance to achieving their design proposal. Periti who are interested in sharing their experience are to submit their projects in the form of a PowerPoint presentation (not more than 5 slides per project)\, by the 15th September 2018\, and will be allocated a maximum of 5 minutes to present their experience. \nThe Council reserves the right to limit the total number of projects presented in the interest of time. \n  \nParticipation Fee:\nStudent Members – Free \nGraduate Members – €5.00 \nPaid up Members – €12.00 \nNon Paid up Members – €20.00 \n  \nPayment Options:\nBY CHEQUE\nPrint a copy of the confirmation email\, attach cheque payable to “Kamra tal-Periti”\, and mail it to the following address:\nKamra tal-Periti\nThe Professional Centre\n127\, Sliema Road\nGzira GZR 1633\nMalta \nBY BANK TRANSFER\nSend payment by electronic bank transfer to the following IBAN number: \nBank of Valletta\nIBAN MT02VALL22013000000015805515015\nSwift/BIC VALLMTMT \n\n\n	Related
URL:https://kamratalperiti.org/event/design-workshop-for-periti/
LOCATION:Mount Saint Joseph Retreat House\, Triq il-Missjunarji Maltin\, Mosta\, Malta
CATEGORIES:Workshop
ATTACH;FMTTYPE=image/jpeg:https://kamratalperiti.org/wp-content/uploads/design-workshop.jpg
ORGANIZER;CN="Kamra%20tal-Periti":MAILTO:info@kamratalperiti.org
END:VEVENT
END:VCALENDAR