BEGIN:VCALENDAR
VERSION:2.0
PRODID:-//Kamra tal-Periti - ECPv5.16.2.1//NONSGML v1.0//EN
CALSCALE:GREGORIAN
METHOD:PUBLISH
X-WR-CALNAME:Kamra tal-Periti
X-ORIGINAL-URL:https://kamratalperiti.org
X-WR-CALDESC:Events for Kamra tal-Periti
BEGIN:VTIMEZONE
TZID:Europe/Malta
BEGIN:DAYLIGHT
TZOFFSETFROM:+0100
TZOFFSETTO:+0200
TZNAME:CEST
DTSTART:20180325T010000
END:DAYLIGHT
BEGIN:STANDARD
TZOFFSETFROM:+0200
TZOFFSETTO:+0100
TZNAME:CET
DTSTART:20181028T010000
END:STANDARD
END:VTIMEZONE
BEGIN:VEVENT
DTSTART;VALUE=DATE:20181006
DTEND;VALUE=DATE:20181008
DTSTAMP:20260423T050158
CREATED:20181003T145343Z
LAST-MODIFIED:20181003T145548Z
UID:6161-1538784000-1538956799@kamratalperiti.org
SUMMARY:Launch of Premju Emanuele Luigi Galizia 2019 | Student Projects Exhibition
DESCRIPTION:For the second year running\, Kamra tal-Periti and SACES are organising the Premju E.L.Galizia for the best Final Projects in the M.Arch and M.Eng cohorts. \nAs part of Notte Bianca 2018\, the projects will be publicly exhibited on the Ground Floor of Valletta Campus on Saturday 6th October and Sunday 7th October 2018. \nEntrance is free \nContact us on info@sacesmalta.org for more information. \n\n\n\n	Related
URL:https://kamratalperiti.org/event/launch-of-premju-emanuele-luigi-galizia-2019-student-projects-exhibition/
LOCATION:University of Malta (Valletta Campus)\, University of Malta (Valletta Campus) St Paul's Street\, Valletta\, Malta
CATEGORIES:Exhibition
ATTACH;FMTTYPE=image/jpeg:https://kamratalperiti.org/wp-content/uploads/43000478_1884002978331474_7655429921199620096_n.jpg
ORGANIZER;CN="Kamra%20tal-Periti":MAILTO:info@kamratalperiti.org
END:VEVENT
END:VCALENDAR