BEGIN:VCALENDAR
VERSION:2.0
PRODID:-//Kamra tal-Periti - ECPv5.16.2.1//NONSGML v1.0//EN
CALSCALE:GREGORIAN
METHOD:PUBLISH
X-WR-CALNAME:Kamra tal-Periti
X-ORIGINAL-URL:https://kamratalperiti.org
X-WR-CALDESC:Events for Kamra tal-Periti
BEGIN:VTIMEZONE
TZID:Europe/Malta
BEGIN:DAYLIGHT
TZOFFSETFROM:+0100
TZOFFSETTO:+0200
TZNAME:CEST
DTSTART:20180325T010000
END:DAYLIGHT
BEGIN:STANDARD
TZOFFSETFROM:+0200
TZOFFSETTO:+0100
TZNAME:CET
DTSTART:20181028T010000
END:STANDARD
END:VTIMEZONE
BEGIN:VEVENT
DTSTART;TZID=Europe/Malta:20181206T180000
DTEND;TZID=Europe/Malta:20181206T203000
DTSTAMP:20260422T233920
CREATED:20181123T143614Z
LAST-MODIFIED:20181123T143936Z
UID:6516-1544119200-1544128200@kamratalperiti.org
SUMMARY:New and Renovated Buildings Energy Efficiency and their Compliance with Technical Document F | Part 1: The Building Envelope
DESCRIPTION:You are cordially invited to this evening organised by MEEREA. \n  \nThe year 2020 is on the horizon when all new and renovated buildings will have to achieve nearly-zero energy status. \nHow can one design buildings with this in mind\, while taking into consideration the binding requirements of Technical Document F? \nWhat options are available to achieve this without compromising internal space and comfort? \nThis seminar will answer frequently asked questions vis-a-vis the application of thermal insulation to buildings to improve their energy performance and enhance their indoor climate. Different types of insulation and their characteristics will be discussed together with their costs and subsequent application. Some reference will also be given to other building elements such as glazing and the extent to which one should consider their complexity within the mild climatic conditions of Malta. Case studies will also be presented. \nSpeakers: Ing. Damien Gatt and Perit Greta Caruana Smith \nThe event will be followed by a pizza/pasta night. \nFee is free of charge for paid-up members. Members who did not pay their membership for 2018 are encouraged to do so immediately. \n\n\n\n\nName(required)\n\n	\n\n\nEmail(required)\n\n	\n\n\nContact number(required)\n\n	\n\n\nMembership(required)\n		 Paid member of MEEREA\n		 Paid member of KTP\n		 Not a member\n	\n\n\nJoining for pasta dinner after event? (Free for paid members\, €15 for non-paid members)(required)\n		 Yes		 No	\n\n\nMessage\n\n	\n	\n		Submit		\n		\n		\n	 \nΔ \n\n\n\n	Related
URL:https://kamratalperiti.org/event/new-and-renovated-buildings-energy-efficiency-and-their-compliance-with-technical-document-f-part-1-the-building-envelope/
LOCATION:The Waterfront Hotel\, Triq Ix - Xatt\, Sliema\, SLM 1028\, Malta
CATEGORIES:Seminar
ATTACH;FMTTYPE=image/jpeg:https://kamratalperiti.org/wp-content/uploads/meerea-part-1-1.jpg
END:VEVENT
END:VCALENDAR