BEGIN:VCALENDAR
VERSION:2.0
PRODID:-//Kamra tal-Periti - ECPv5.16.2.1//NONSGML v1.0//EN
CALSCALE:GREGORIAN
METHOD:PUBLISH
X-WR-CALNAME:Kamra tal-Periti
X-ORIGINAL-URL:https://kamratalperiti.org
X-WR-CALDESC:Events for Kamra tal-Periti
BEGIN:VTIMEZONE
TZID:Europe/Malta
BEGIN:DAYLIGHT
TZOFFSETFROM:+0100
TZOFFSETTO:+0200
TZNAME:CEST
DTSTART:20180325T010000
END:DAYLIGHT
BEGIN:STANDARD
TZOFFSETFROM:+0200
TZOFFSETTO:+0100
TZNAME:CET
DTSTART:20181028T010000
END:STANDARD
END:VTIMEZONE
BEGIN:VEVENT
DTSTART;TZID=Europe/Malta:20181123T090000
DTEND;TZID=Europe/Malta:20181123T120000
DTSTAMP:20260422T234308
CREATED:20181031T105227Z
LAST-MODIFIED:20181031T105227Z
UID:6282-1542963600-1542974400@kamratalperiti.org
SUMMARY:The Needs of the Professional in Gozo
DESCRIPTION:The Malta Federation of Professional Associations (MFPA)\, in partnership with the Gozo Tourism Association (GTA)\, was awarded funds by the Ministry for Gozo NGO Assistance Scheme to carry out the project: Professionals in Gozo – What are their needs? Given the impact that a professional has on the quality of life of the consumer and thus on society at large it is important to see that both the professional’s and the consumers’ needs are met through the delivery of a good quality service\, promote the wellbeing of individuals and enhance economic growth. This project aimed to look closely at the professional in Gozo and evaluate what issues need to be addressed. It also aimed at bringing together different professions who otherwise may not have opportunity to share experiences\, needs and concerns\, hence encouraging transdisciplinary discussion. Are there any differences between a professional in Gozo and that in Malta? Are there different needs? Does a professional set different working practises when delivering a service in Malta rather than in Gozo? These issues were discussed during an initial seminar that was held in July\, 2018. A survey was then drafted to carry out research amongst professionals providing services in Gozo. This research is currently being completed and the findings will be presented at a conference on Friday 23 November at the Grand Hotel\, Gozo. \nProfessionals working in Gozo are strongly encouraged to attend this conference and book their place on gtagozo@onvol.net / info@mfpa.org.mt or by calling 21565171 / 99471287 \nThis initiative has been supported by the Ministry for Gozo NGO Assistance Scheme\, a funding programme for Voluntary Organisations on the Island of Gozo. \n\n\n	Related
URL:https://kamratalperiti.org/event/the-needs-of-the-professional-in-gozo-2/
LOCATION:Grand Hotel\, Triq Sant Antnin\, Mgarr\, Gozo\, GSM 9026\, Malta
CATEGORIES:Seminar
ATTACH;FMTTYPE=image/jpeg:https://kamratalperiti.org/wp-content/uploads/gozoconference.jpg
END:VEVENT
END:VCALENDAR