BEGIN:VCALENDAR
VERSION:2.0
PRODID:-//Kamra tal-Periti - ECPv5.16.2.1//NONSGML v1.0//EN
CALSCALE:GREGORIAN
METHOD:PUBLISH
X-WR-CALNAME:Kamra tal-Periti
X-ORIGINAL-URL:https://kamratalperiti.org
X-WR-CALDESC:Events for Kamra tal-Periti
BEGIN:VTIMEZONE
TZID:Europe/Malta
BEGIN:DAYLIGHT
TZOFFSETFROM:+0100
TZOFFSETTO:+0200
TZNAME:CEST
DTSTART:20210328T010000
END:DAYLIGHT
BEGIN:STANDARD
TZOFFSETFROM:+0200
TZOFFSETTO:+0100
TZNAME:CET
DTSTART:20211031T010000
END:STANDARD
END:VTIMEZONE
BEGIN:VEVENT
DTSTART;TZID=Europe/Malta:20210421T160000
DTEND;TZID=Europe/Malta:20210421T164500
DTSTAMP:20260419T211352
CREATED:20210408T083450Z
LAST-MODIFIED:20210408T095238Z
UID:11915-1619020800-1619023500@kamratalperiti.org
SUMMARY:Vitra webinar - Designing the Club Office
DESCRIPTION:An Exclusive Event for Members of Kamra tal-Periti \n  \nThe office landscape has changed drastically over the past 150 years – from working in a patron’s library to activity-based open spaces. Now the COVID-19 crisis has once again changed the demands on today’s offices. \n  \n– How can a space strengthen collaboration and innovation in times of increased remote work? \n– How must a space be designed to convey a sense of belonging and identification in times when we need to maintain physical distance? \n– What functions does an office have to fulfil? \n  \n \n  \nDiscover the latest office concept from Vitra- the Club Office. In collaboration with Vitra & Vivendo Projects\, join us at the webinar ‘Designing the Club Office’ with guest speaker Tim Reusch\, Head of Interior Design Studio at Vitra. An opportunity to learn first-hand from expert leaders on designing office spaces that meet the fresh demands in today’s working environment. \n  \nRegister here\n\n\n	Related
URL:https://kamratalperiti.org/event/vitra-webinar-designing-the-club-office/
CATEGORIES:Webinar
ATTACH;FMTTYPE=image/jpeg:https://kamratalperiti.org/wp-content/uploads/Vivendo-Webinar1-wordpress.jpg
ORGANIZER;CN="Vivendo":MAILTO:info@vivendo.mt
END:VEVENT
END:VCALENDAR