BEGIN:VCALENDAR
VERSION:2.0
PRODID:-//Kamra tal-Periti - ECPv5.16.2.1//NONSGML v1.0//EN
CALSCALE:GREGORIAN
METHOD:PUBLISH
X-WR-CALNAME:Kamra tal-Periti
X-ORIGINAL-URL:https://kamratalperiti.org
X-WR-CALDESC:Events for Kamra tal-Periti
BEGIN:VTIMEZONE
TZID:Europe/Malta
BEGIN:DAYLIGHT
TZOFFSETFROM:+0100
TZOFFSETTO:+0200
TZNAME:CEST
DTSTART:20180325T010000
END:DAYLIGHT
BEGIN:STANDARD
TZOFFSETFROM:+0200
TZOFFSETTO:+0100
TZNAME:CET
DTSTART:20181028T010000
END:STANDARD
END:VTIMEZONE
BEGIN:VEVENT
DTSTART;TZID=Europe/Malta:20180328T093000
DTEND;TZID=Europe/Malta:20180328T133000
DTSTAMP:20260423T190844
CREATED:20180313T171926Z
LAST-MODIFIED:20180313T173614Z
UID:5301-1522229400-1522243800@kamratalperiti.org
SUMMARY:ZeroCO2: Promotion of Near Zero CO2 Emission Buildings due to Energy Use
DESCRIPTION:The final regional conference of the ZeroCo2 – Interreg Europe Project will be held at the University Residence\, Lija\, Malta on 28 March 2018 starting at 9:30 a.m. \nAt 12 noon\, a press conference that will be addressed by Hon. Dr. Aaron Farrugia\, Parliamentary Secretary for EU Funds and Social Dialogue. \nProgramme\n09:30 – 09:45Overview of the Interreg-Europe Project: ZeroCO2\, Dr. Charles Yousif\, ISE09:45 – 10:15Market Needs Report for Near Zero Carbon Emissions Buildings\, Ing. Damien Gatt\, ISE10:15 – 10:30Discussion10:30 – 11:00Coffee Break11:00 – 11:30Policy Action Plan towards Near ZeroCO2 Buildings\, Dr. Charles Yousif\, ISE11:30 – 12:00Discussion12:00 – 12:30Press Conference Hon. Dr. Aaron Farrugia\, Parliamentary Secretary for EU Funds and Social Dialogue12:30 – 13:30Reception\nAttendance is free of charge and it will be on a first come first served basis\, due to the limited number of seats. \nTo register please fill in form below. \nRegister\n\n\n\n\nName(required)\n\n	\n\n\nEmail(required)\n\n	\n\n\nMobile No.(required)\n\n	\n\n\nMessage\n\n	\n	\n		Submit		\n		\n		\n	 \nΔ \n\n\n\n	Related
URL:https://kamratalperiti.org/event/zeroco2-promotion-of-near-zero-co2-emission-buildings-due-to-energy-use/
LOCATION:University Residence\, Triq Robert Mifsud Bonnici\, Lija\, Malta
CATEGORIES:Conference
ATTACH;FMTTYPE=image/png:https://kamratalperiti.org/wp-content/uploads/csm_zeroco2_74c5473528.png
ORGANIZER;CN="Institute%20for%20Sustainable%20Energy":MAILTO:charles.yousif@um.edu.mt
END:VEVENT
END:VCALENDAR