BEGIN:VCALENDAR
VERSION:2.0
PRODID:-//Kamra tal-Periti - ECPv5.16.2.1//NONSGML v1.0//EN
CALSCALE:GREGORIAN
METHOD:PUBLISH
X-WR-CALNAME:Kamra tal-Periti
X-ORIGINAL-URL:https://kamratalperiti.org
X-WR-CALDESC:Events for Kamra tal-Periti
BEGIN:VTIMEZONE
TZID:Europe/Malta
BEGIN:DAYLIGHT
TZOFFSETFROM:+0100
TZOFFSETTO:+0200
TZNAME:CEST
DTSTART:20170326T010000
END:DAYLIGHT
BEGIN:STANDARD
TZOFFSETFROM:+0200
TZOFFSETTO:+0100
TZNAME:CET
DTSTART:20171029T010000
END:STANDARD
END:VTIMEZONE
BEGIN:VEVENT
DTSTART;TZID=Europe/Malta:20171002T170000
DTEND;TZID=Europe/Malta:20171014T220000
DTSTAMP:20260424T125456
CREATED:20170919T132558Z
LAST-MODIFIED:20171015T213227Z
UID:3641-1506963600-1508018400@kamratalperiti.org
SUMMARY:Masters' Final Projects
DESCRIPTION:For the first time\, SACES and the Kamra tal-Periti are giving students the opportunity to exhibit their M.Arch and M.Eng final projects! \nThe exhibition is part of the KTP Award for best Final Project and Dissertation\, being launched this year. Participation in the awards and exhibition will also give students the opportunity for their projects to be nominated for the RIBA Presidents’ Award. \nThe Final Projects Exhibition will open on World Architecture Day\, 2nd October until 7th October (Notte Bianca). \n  \nProgramme \n2nd OctoberWorld Architecture DayLaunch of Final Projects Exhibition5th OctoberEuropean Engineers DayPresentation of Dissertations7th OctoberNotte BiancaClosing Night\n  \nContact us on info@sacesmalta.org or info@ktpmalta.org for more information. \nKTP x SACES.
URL:https://kamratalperiti.org/event/masters-final-projects/
LOCATION:University of Malta (Valletta Campus)\, University of Malta (Valletta Campus) St Paul's Street\, Valletta\, Malta
CATEGORIES:Exhibition
ATTACH;FMTTYPE=image/jpeg:https://kamratalperiti.org/wp-content/uploads/Final-year-exhibitions.jpg
ORGANIZER;CN="Kamra%20tal-Periti":MAILTO:info@kamratalperiti.org
END:VEVENT
BEGIN:VEVENT
DTSTART;VALUE=DATE:20171009
DTEND;VALUE=DATE:20171013
DTSTAMP:20260424T125456
CREATED:20170912T185306Z
LAST-MODIFIED:20170912T200948Z
UID:3490-1507507200-1507852799@kamratalperiti.org
SUMMARY:European Week of Regions & Cities
DESCRIPTION:The context\nIn 2017\, the European Week of Regions and Cities will reach its 15th birthday. It is a moment of both looking back and looking forward\, whilst tackling the challenges that the EU regional and urban policy should be addressing\, as of today\, and over the coming years. \nThe debate on Europe’s future was kick-started by the Rome Treaties’ anniversary (in March) and will continue to unfold throughout 2017. The European Week of Regions and Cities will be an opportunity for EU regions and cities to contribute to this debate and to feed into the political mainstream examples and inputs from the regional and urban angle to shape Europe’s future.   Moreover\, the European Week will discuss the Cohesion Report and the EU multiannual financial framework 2020-2026\, and thus be a key platform for gathering and presenting the views of the regions and cities on both the budget and the subsequent legislative proposals with regard to cohesion policy and rural development. \nEurope’s regions and cities face major challenges with profound consequences\, such as adaptation to globalisation and to a new wave of automation in the workplace\, as well as an urgent need to integrate migrant populations. These challenges can be turned into opportunities for economic and social progress\, provided that the right policies and programmes are implemented at all levels. \nThemes in 2017\nDiscussions during the European Week of Regions and Cities will examine the nature of these challenges and how they are playing out in different geographical contexts. Under the main headline of ‘Regions and Cities working for a better future’\, the event will focus on three sub-themes: \nBuilding resilient regions and cities – #LocalResilience\nThis strand will focus on the economic and social effects of globalisation and the policy response at EU\, national\, regional and local level. Among the negative risks are those of (further) delocalisation of lower added-value industries\, the loss of low-skilled jobs\, new sources of employment that are often service-based\, precarious and lower-paid. It will also represent an opportunity to present and discuss innovative ways to foster change and in particular on how to make Europe’s cities smarter and more resilient. \nRegions and cities as change agents – #TakeAction\nThis strand will consider the possible adaptations to EU regional and urban policy for the next 5-10 years on\, and encourage a more general reflection on the EU from the perspective of regions and cities. It will offer a platform to illustrate the effective contributions EU regions and cities  are making to the European project and will allow them to provide input to the main political debate in parallel with the ‘Reflecting on Europe’ process launched by the Committee of the Regions. This strand will also allow discussion of the results achieved so far and assessment of cohesion policy performances and benefits\, in particular with regards to reducing disparities\, while at the same time looking ahead at the future prospects. \nSharing knowledge to deliver results – #SharingKnowledge\nUnder this strand\, regional and national authorities implementing programmes supported by the European Structural and Investments funds will have the opportunity to exchange experiences and good practices relating to programme management during the period 2014-2020. Key issues include the consideration of ways to reduce the administrative burden on beneficiaries through simplification\, as well as different means of strengthening institutions and building administrative capacity among administrations at all levels. \nDiscussions with practitioners will be integrated with input from academia as well as from participants from non-EU countries that are interested in the process of European integration\, both from an institutional point of view and in terms of policies that promote European cohesion. \nBetween 9 and 12 October 2017\, the Brussels-based European Week of Regions and Cities programme will feature: \n\nOpening Session on 9 October at the European Parliament in presence of senior EU representatives;\n130 workshops debates\, project visits and networking events\, organised by organisers and event partners and managed jointly with them;\na Master Class for PhD students in regional policy;\nRegioStars Awards Ceremony and Official Reception on 10 October;\na media programme;\nnetworking facilities.\n\nAll events are free of charge to participants\, but upon prior registration only. Registration to all events is open until 29 September 2017. \nProgramme of Events
URL:https://kamratalperiti.org/event/european-week-of-regions-cities/
LOCATION:Bâtiment Jacques Delors\, Rue Belliard 99-101\, Brussels\, B - 1040\, Belgium
CATEGORIES:Conference
ATTACH;FMTTYPE=image/jpeg:https://kamratalperiti.org/wp-content/uploads/European-Week-Cities-Regions.jpg
END:VEVENT
END:VCALENDAR