BEGIN:VCALENDAR
VERSION:2.0
PRODID:-//Kamra tal-Periti - ECPv5.16.2.1//NONSGML v1.0//EN
CALSCALE:GREGORIAN
METHOD:PUBLISH
X-WR-CALNAME:Kamra tal-Periti
X-ORIGINAL-URL:https://kamratalperiti.org
X-WR-CALDESC:Events for Kamra tal-Periti
BEGIN:VTIMEZONE
TZID:Europe/Athens
BEGIN:DAYLIGHT
TZOFFSETFROM:+0200
TZOFFSETTO:+0300
TZNAME:EEST
DTSTART:20170326T010000
END:DAYLIGHT
BEGIN:STANDARD
TZOFFSETFROM:+0300
TZOFFSETTO:+0200
TZNAME:EET
DTSTART:20171029T010000
END:STANDARD
END:VTIMEZONE
BEGIN:VEVENT
DTSTART;TZID=Europe/Athens:20171103T090000
DTEND;TZID=Europe/Athens:20171109T143000
DTSTAMP:20260424T090549
CREATED:20170912T192443Z
LAST-MODIFIED:20170912T192519Z
UID:3505-1509699600-1510237800@kamratalperiti.org
SUMMARY:International Seminar on Roads\, Bridges and Tunnels
DESCRIPTION:The School of Civil Engineering of the Aristotle University of Thessaloniki will organize an International Educational Seminar on Roads\, Bridges and Tunnels\, the ISRBT2017\, in Salonica\, in November 2017. This will be the 2nd Seminar of the kind\, after the ISRBT2016\, which took place in November 2016\, gathering 53 participants and 25 invited speakers from 9 European countries. \nThe International Seminar on Roads\, Bridges and Tunnels (ISRBT) will adress to practical aspects of construction and management\, aiming\, especially\, at enlightening the applied part of the engineering know-how\, useful to professionals of international prospects. \nAdditionally\, young\, but also experienced\, engineers will get acquainted with a wide range of innovative methods of construction and project management in the fields of roads\, bridges and tunnels. \nThe Seminar is addressed to Construction Engineers\, Engineers of International Projects\, Scholars\, Road Designers\, Construction Managers\, Motorway Operators\, Road Engineers\, Bridge Engineers\, Tunnel Engineers\, Motorway Concessionaire\, QA and QC Engineers.
URL:https://kamratalperiti.org/event/international-seminar-on-roads-bridges-and-tunnels/
LOCATION:Aristotle University Campus\, Thessaloniki\, Greece
CATEGORIES:Seminar
ATTACH;FMTTYPE=image/jpeg:https://kamratalperiti.org/wp-content/uploads/ISBRT.jpg
END:VEVENT
END:VCALENDAR