BEGIN:VCALENDAR
VERSION:2.0
PRODID:-//Kamra tal-Periti - ECPv5.16.2.1//NONSGML v1.0//EN
CALSCALE:GREGORIAN
METHOD:PUBLISH
X-WR-CALNAME:Kamra tal-Periti
X-ORIGINAL-URL:https://kamratalperiti.org
X-WR-CALDESC:Events for Kamra tal-Periti
BEGIN:VTIMEZONE
TZID:Europe/Malta
BEGIN:DAYLIGHT
TZOFFSETFROM:+0100
TZOFFSETTO:+0200
TZNAME:CEST
DTSTART:20170326T010000
END:DAYLIGHT
BEGIN:STANDARD
TZOFFSETFROM:+0200
TZOFFSETTO:+0100
TZNAME:CET
DTSTART:20171029T010000
END:STANDARD
END:VTIMEZONE
BEGIN:VEVENT
DTSTART;TZID=Europe/Malta:20171204T171500
DTEND;TZID=Europe/Malta:20171204T203000
DTSTAMP:20260424T043556
CREATED:20171109T160133Z
LAST-MODIFIED:20171117T113940Z
UID:4180-1512407700-1512419400@kamratalperiti.org
SUMMARY:External Cladding by Zanetti | Design Considerations for Glass Envelopes
DESCRIPTION:Zanetti srl\, an international company based in Italy\, will be hosting the seminar. This organisation specialises in Facade Systems\, with products such as Curtain Walls\, Cladding\, Aluminium Frames\, Skylights and Apertures. This International Italian Company boasts of years of experience in the field of Facade Systems with a number of high profiles projects under its belt. They have worked in Italy\, Nigeria\, Libya\, Algeria\, Iran and now Dubai.   The company’s approach to the market is through detailed engineering and its ability to customise its product to fit any project requirements. The aim of this seminar is to share that knowledge and experience with the local market\, in order to improve know how and therefore standards locally. The speakers at seminar will be the Director of Technical Department – Alberto Zanetti\, Civil Engineer – Francesco Sommariva and Design Architect – Michele Realis Luc who all have many years of experience in this industry. \nPrior registration is required through contact form below. \n  \nProgramme\n5.15pmRegistration5.30pmSeminar IntroductionAlberto Zanetti | Director of Technical Department5.40pmGlass Facade: Types\, functions and requirements in EuropeFrancesco Sommariva | Civil Engineer in Glass Facade6.10pmGuideline for Architects and Investors: 10 steps to include facades in the projectMichele Realis Luc | Design Architect in Glass Facade6.40pmCoffee Break7.00pmFacade Applications in Advanced ProjectsMichele Realis Luc | Design Architect in Glass Facade7.30pmA New Challenge: Customising Facade for the Single ProjectAlberto Zanetti | Director of Technical Department8.00pmQuestions\n  \nRegistration\n\n\n\n\n\nName(required)\n\n	\n\n\nSurname(required)\n\n	\n\n\nFirm/Office(required)\n\n	\n\n\nEmail address(required)\n\n	\n\n\nMobile no.(required)\n\n	\n\n\nMessage\n\n	\n	\n		Submit		\n		\n		\n	 \nΔ
URL:https://kamratalperiti.org/event/external-cladding-by-zanetti-design-considerations-for-glass-envelopes/
LOCATION:Radisson Blu Resort\, Triq L.V. Farrugia\, St Julian's\, Malta
CATEGORIES:Seminar
ATTACH;FMTTYPE=image/jpeg:https://kamratalperiti.org/wp-content/uploads/facebook-cover-photo-template_zanetti.jpg
ORGANIZER;CN="Zanetti%20srl":MAILTO:alanborgcole@zanettisrl.it
END:VEVENT
END:VCALENDAR