BEGIN:VCALENDAR
VERSION:2.0
PRODID:-//Kamra tal-Periti - ECPv5.16.2.1//NONSGML v1.0//EN
CALSCALE:GREGORIAN
METHOD:PUBLISH
X-WR-CALNAME:Kamra tal-Periti
X-ORIGINAL-URL:https://kamratalperiti.org
X-WR-CALDESC:Events for Kamra tal-Periti
BEGIN:VTIMEZONE
TZID:Europe/Malta
BEGIN:DAYLIGHT
TZOFFSETFROM:+0100
TZOFFSETTO:+0200
TZNAME:CEST
DTSTART:20180325T010000
END:DAYLIGHT
BEGIN:STANDARD
TZOFFSETFROM:+0200
TZOFFSETTO:+0100
TZNAME:CET
DTSTART:20181028T010000
END:STANDARD
END:VTIMEZONE
BEGIN:VEVENT
DTSTART;TZID=Europe/Malta:20180302T180000
DTEND;TZID=Europe/Malta:20180302T203000
DTSTAMP:20260423T224646
CREATED:20180221T095808Z
LAST-MODIFIED:20180221T155225Z
UID:5147-1520013600-1520022600@kamratalperiti.org
SUMMARY:Presentation by Figueras Seating Sytems & Sanpark Automated Park Systems
DESCRIPTION:389 Ltd in collaboration with the KAMRA TAL-PERITI will be organising a Seminar at the Corinthia Palace Hotel\, ATTARD on Friday 2nd March\, 2018  with Registration  and welcome tea/coffee at 18.00 hours. \nTwo foreign Companies from Spain and Turkey namely :  FIGUERAS Seating Systems\, and SAN PARK Automated Park Systems have been invited to give a Presentation. \n18.30          FIGUERAS technology – Why can’t conferences be held in a cinema? Why can’t a conference hall be used as a theatre ? Why  can’t a theatre be used to hold a banquet ?  The movable seating system developed by FIGUERAS will answer ALL your queries \nSpeaker:  Ms Samia SELMANE – Figueras\, Mediterranean & Africa Sales Director \n  \n19.15         SAN PARK  – Providing its customers with high-end technology for AUTOPARK SYSTEMS and with affordable prices\, SAN PARK hits the bulls eye of ALL needs.  This has become their mission by using Technologies during the manufacturing process\, using the finest quality components\, in order to produce the best final goods \nSpeaker:  Mr Ceyhun CEYLAN – SAN PARK – Engineer & Export Sales Coordinator \n20.00      Q & A \nFollowed with finger food and drinks while\, maybe\, discussing a project \n  \nTo register for the event\, enter the number of attendees in the RSVP box at the bottom left of this page – you will then be prompted to input details.
URL:https://kamratalperiti.org/event/presentation-by-figueras-seating-sytems-sanpark-automated-park-systems/
LOCATION:Corinthia Palace Hotel Malta\, Vjal de Paule\, Attard\, BZN 9023\, Malta
CATEGORIES:Seminar
ATTACH;FMTTYPE=image/jpeg:https://kamratalperiti.org/wp-content/uploads/facebook389.jpg
ORGANIZER;CN="389%20Ltd":MAILTO:jborg@389.com.mt
END:VEVENT
END:VCALENDAR