BEGIN:VCALENDAR
VERSION:2.0
PRODID:-//Kamra tal-Periti - ECPv5.16.2.1//NONSGML v1.0//EN
CALSCALE:GREGORIAN
METHOD:PUBLISH
X-WR-CALNAME:Kamra tal-Periti
X-ORIGINAL-URL:https://kamratalperiti.org
X-WR-CALDESC:Events for Kamra tal-Periti
BEGIN:VTIMEZONE
TZID:Europe/Malta
BEGIN:DAYLIGHT
TZOFFSETFROM:+0100
TZOFFSETTO:+0200
TZNAME:CEST
DTSTART:20180325T010000
END:DAYLIGHT
BEGIN:STANDARD
TZOFFSETFROM:+0200
TZOFFSETTO:+0100
TZNAME:CET
DTSTART:20181028T010000
END:STANDARD
END:VTIMEZONE
BEGIN:VEVENT
DTSTART;TZID=Europe/Malta:20180426T174500
DTEND;TZID=Europe/Malta:20180426T204500
DTSTAMP:20260423T190400
CREATED:20180315T101826Z
LAST-MODIFIED:20180423T122954Z
UID:5323-1524764700-1524775500@kamratalperiti.org
SUMMARY:Gender in Architecture and Engineering
DESCRIPTION:As part of the 200 year anniversary celebrations of the Institution of Civil Engineers ICE UK\, the Malta Group of Professional Engineering Institutions representing the ICE in Malta\, with the support of the ICE University of Malta Student Chapter is organising a Debate on ‘Gender in Architecture and Engineering’ in collaboration with the Gender Issues Committee of the University of Malta. \n  \nProgramme\n  \n17:45 – 18:15\nWelcome drinks and refreshments \n  \n18:15 – 1830\nIntroductions \nDr. Ruben Paul Borg (Chairman Malta Group Professional Engineering Institutions – Institution of Civil Engineers UK  Representative\, University of Malta Gender Committee Member)\nProf. Marie Therese Camilleri Podesta’  (University of Malta Chair\, University of Malta Gender Issues Committee) \n  \n18:30 – 20:00\nDebate \nModerator: \nProf. Marie Therese Camilleri Podesta’\n(University of Malta Chair\, University of Malta Gender Issues Committee) \nPanel:\nPerit. Simone Vella Lenicker\n(Vice President\, Kamra Tal-Periti\, Malta Chamber of Architects and Civil Engineers) \nIng. Charles Cuschieri\n(Director Camilleri and Cuschieri Engineers) \nIng. Elisa Vella\n(Engineer with a Masters Degree in Psychology of Work) \nPerit. Antoinette Conti\n(Project Leader\, Transport Malta) \nDr. Neveen Hamza\n(Senior Lecturer in Built Environment\, University of Newcastle\, United Kingdom) \nMs. Jasmine Azzopardi\n(University of Malta Student\, University of Malta Institution of Civil Engineers Student Chapter President) \nProfile of Panel Members \n  \n20:00 – 20:30\nDiscussion  \n  \n20:30\nConcluding Remarks \nProf. Marie Therese Camilleri Podesta’\n(University of Malta Chair\, University of Malta Gender Issues Committee) \n 
URL:https://kamratalperiti.org/event/gender-in-architecture-and-engineering/
CATEGORIES:Seminar
ATTACH;FMTTYPE=image/jpeg:https://kamratalperiti.org/wp-content/uploads/facebook-cover-genderinarchitecture.jpg
END:VEVENT
END:VCALENDAR