BEGIN:VCALENDAR
VERSION:2.0
PRODID:-//Kamra tal-Periti - ECPv5.16.2.1//NONSGML v1.0//EN
CALSCALE:GREGORIAN
METHOD:PUBLISH
X-WR-CALNAME:Kamra tal-Periti
X-ORIGINAL-URL:https://kamratalperiti.org
X-WR-CALDESC:Events for Kamra tal-Periti
BEGIN:VTIMEZONE
TZID:Europe/Malta
BEGIN:DAYLIGHT
TZOFFSETFROM:+0100
TZOFFSETTO:+0200
TZNAME:CEST
DTSTART:20180325T010000
END:DAYLIGHT
BEGIN:STANDARD
TZOFFSETFROM:+0200
TZOFFSETTO:+0100
TZNAME:CET
DTSTART:20181028T010000
END:STANDARD
END:VTIMEZONE
BEGIN:VEVENT
DTSTART;TZID=Europe/Malta:20180510T173000
DTEND;TZID=Europe/Malta:20180510T203000
DTSTAMP:20260423T171302
CREATED:20180427T092957Z
LAST-MODIFIED:20180427T092957Z
UID:5573-1525973400-1525984200@kamratalperiti.org
SUMMARY:The New Way of Construction: Aesthetic & Functional Solutions using Dry Wall partition systems for internal and external application
DESCRIPTION:Project Technik Building Supplies Ltd in collaboration with FIBRAN S.p.a are pleased to invite you to attend a Technical Seminar\, Aesthetic and Functional Solutions for Internal and External application. \n  \nThe seminar will be held on the 10th May 2018 at The Palace Hotel\, High Street\, Sliema \n  \nProgramme\n\n\n\n17:30 hrs\nRegistration & Coffee\n\n\n18:00 hrs\nPresentation of main solutions\, aesthetic & functional partitions\, external walls & roof\n\n\n19:30 hrs\nPresentation of references\, offices\, schools\, entertainment\, private buildings\, housing\, commercial malls\n\n\n20:30 hrs\nLight refreshments & networking\n\n\n\n  \nParticipation is limited to a first come\, first served basis and registration is to be made before the 8th May 2018. \n  \nKindly RSVP on the following link: \n  \nhttps://goo.gl/forms/odBpdTyU1oClepA12 \n 
URL:https://kamratalperiti.org/event/the-new-way-of-construction-aesthetic-functional-solutions-using-dry-wall-partition-systems-for-internal-and-external-application/
LOCATION:The Palace Hotel\, Triq il-Kbira\, Sliema\, Malta
CATEGORIES:Seminar
ATTACH;FMTTYPE=image/jpeg:https://kamratalperiti.org/wp-content/uploads/fibran-event-confirmed-Invitations.jpg
ORGANIZER;CN="Project%20Technik%20Building%20Supplies%20Ltd":MAILTO:af@project-technik.com
END:VEVENT
END:VCALENDAR