BEGIN:VCALENDAR
VERSION:2.0
PRODID:-//Kamra tal-Periti - ECPv5.16.2.1//NONSGML v1.0//EN
CALSCALE:GREGORIAN
METHOD:PUBLISH
X-WR-CALNAME:Kamra tal-Periti
X-ORIGINAL-URL:https://kamratalperiti.org
X-WR-CALDESC:Events for Kamra tal-Periti
BEGIN:VTIMEZONE
TZID:Europe/Malta
BEGIN:DAYLIGHT
TZOFFSETFROM:+0100
TZOFFSETTO:+0200
TZNAME:CEST
DTSTART:20180325T010000
END:DAYLIGHT
BEGIN:STANDARD
TZOFFSETFROM:+0200
TZOFFSETTO:+0100
TZNAME:CET
DTSTART:20181028T010000
END:STANDARD
END:VTIMEZONE
BEGIN:VEVENT
DTSTART;TZID=Europe/Malta:20180625T120000
DTEND;TZID=Europe/Malta:20180625T130000
DTSTAMP:20260423T120424
CREATED:20180614T094008Z
LAST-MODIFIED:20180614T094430Z
UID:5798-1529928000-1529931600@kamratalperiti.org
SUMMARY:LEVEL(S) | Building sustainability performance
DESCRIPTION:The ACE is organising a webinar on LEVEL(S) on Monday 25 June from 12h00 to 13h00. \n  \nLEVEL(S) is a voluntary reporting framework developed by the European Commission to improve the sustainability of buildings. Using existing standards\, Level(s) provides a common EU approach to the assessment of environmental performance in the built environment. \nThe general objective of the webinar is to explain and discuss what is Level(s)\, how it works and what is the possible usefulness of Level(s) for architects. \nThe webinar targets architects and all professionals in the building environment who are interested in sustainable construction. \n  \nSpeakers: \n– Dr. Judit KIMPIAN: Chair of the ACE Sustainability Work Group \n– Josefina LINDBLOM: EU Commission (DG Environment) \n– Dr. Esfand BURMAN: University College London (UCL)\, Institute for Environmental Design and Engineering (IEDE) \n– Dr. Peter Andreas SATTRUP: Senior advisor at the Danish Association of Architectural Firms \n  \nProgramme:\n– 12h00: Welcome and Introduction by Judit KIMPIAN \n– 12h05: Josefina LINDBLOM – General introduction into Level(s) \n– 12h15: Esfand BURMAN – Level(s): the benefits of a holistic approach to building performance data \n– 12h25: Peter Andreas SATTRUP – What is the possible usefulness of Level(s) for architects? \n– 12h35 : Josefina LINDBLOM: How to engage in the testing phase of Level(s)? \n– 12h40: Discussion with the online audience \n– 13h00: End \n  \nRegistration\nTo register\, please send an email to contact@buildup.eu \nThe link to join in the webinar will be circulated to registered participants in due course.
URL:https://kamratalperiti.org/event/levels-building-sustainability-performance/
CATEGORIES:Seminar
ATTACH;FMTTYPE=image/jpeg:https://kamratalperiti.org/wp-content/uploads/levels2.jpg
ORGANIZER;CN="Architects%27%20Council%20of%20Europe":MAILTO:info@ace-cae.eu
END:VEVENT
END:VCALENDAR