BEGIN:VCALENDAR
VERSION:2.0
PRODID:-//Kamra tal-Periti - ECPv5.16.2.1//NONSGML v1.0//EN
CALSCALE:GREGORIAN
METHOD:PUBLISH
X-WR-CALNAME:Kamra tal-Periti
X-ORIGINAL-URL:https://kamratalperiti.org
X-WR-CALDESC:Events for Kamra tal-Periti
BEGIN:VTIMEZONE
TZID:Europe/Malta
BEGIN:DAYLIGHT
TZOFFSETFROM:+0100
TZOFFSETTO:+0200
TZNAME:CEST
DTSTART:20180325T010000
END:DAYLIGHT
BEGIN:STANDARD
TZOFFSETFROM:+0200
TZOFFSETTO:+0100
TZNAME:CET
DTSTART:20181028T010000
END:STANDARD
END:VTIMEZONE
BEGIN:VEVENT
DTSTART;TZID=Europe/Malta:20181109T080000
DTEND;TZID=Europe/Malta:20181115T170000
DTSTAMP:20260422T233832
CREATED:20180704T093921Z
LAST-MODIFIED:20180704T093921Z
UID:5850-1541750400-1542301200@kamratalperiti.org
SUMMARY:International Seminar on Roads\, Bridges and Tunnels
DESCRIPTION:INTERNATIONAL SEMINAR ON ROADS\, BRIDGES AND TUNNELS \nCHALLENGES AND INNOVATION \n9 – 15 November 2018\, Thessaloniki\, Greece \n  \nThe School of Civil Engineering of the Aristotle University of Thessaloniki is organizing an “International Seminar on Roads\, Bridges and Tunnels: Challenges and Innovation” (ISRBT2018) in Thessaloniki next November. It will consist of three 2-day Sessions: “9-10 November\, Bridges” / “12-13 November\, Roads and Motorways” / “14-15 November\, Geotechnics and Tunnels”. \nDetailed information can be found on our website: http://isrbt.civil.auth.gr \nRegistrations can be made by filling the registration form which can be found in the following link: http://isrbt.civil.auth.gr/?page_id=635 \n  \nWe will be delighted to welcome you in Thessaloniki\, next November. \n  \nKindest Regards \nThe Chairman of the Organizing Committee \nAnastasios Mouratidis \nDr. Ing. Professor AUTH
URL:https://kamratalperiti.org/event/international-seminar-on-roads-bridges-and-tunnels-2018/
LOCATION:Aristotle University Campus\, Thessaloniki\, Greece
CATEGORIES:Seminar
ATTACH;FMTTYPE=image/jpeg:https://kamratalperiti.org/wp-content/uploads/isrbt2018coverphoto.jpg
END:VEVENT
END:VCALENDAR