BEGIN:VCALENDAR
VERSION:2.0
PRODID:-//Kamra tal-Periti - ECPv5.16.2.1//NONSGML v1.0//EN
CALSCALE:GREGORIAN
METHOD:PUBLISH
X-WR-CALNAME:Kamra tal-Periti
X-ORIGINAL-URL:https://kamratalperiti.org
X-WR-CALDESC:Events for Kamra tal-Periti
BEGIN:VTIMEZONE
TZID:Europe/Malta
BEGIN:DAYLIGHT
TZOFFSETFROM:+0100
TZOFFSETTO:+0200
TZNAME:CEST
DTSTART:20190331T010000
END:DAYLIGHT
BEGIN:STANDARD
TZOFFSETFROM:+0200
TZOFFSETTO:+0100
TZNAME:CET
DTSTART:20191027T010000
END:STANDARD
END:VTIMEZONE
BEGIN:VEVENT
DTSTART;TZID=Europe/Malta:20190124T180000
DTEND;TZID=Europe/Malta:20190124T200000
DTSTAMP:20260422T201708
CREATED:20190114T083526Z
LAST-MODIFIED:20190114T083530Z
UID:6863-1548352800-1548360000@kamratalperiti.org
SUMMARY:This Time I'm Voting
DESCRIPTION:The MEP elections are due to be held between the 23 and 26 May 2019. The European Parliament is encouraging all European citizens to participate in these elections and to exercise their democratic right and duty to elect those candidates who respond best to specific issues which are important to each individual voter. \nFor this reason\, the European Parliament has set up a non-partisan communication action titled This Time I’m Voting\, and is inviting all voters to take responsibility for their vote\, and to do so on the basis of a set of specific principles. \nThe Kamra tal-Periti\, in conjunction with the European Parliament representation in Malta\, invites you to participate in a discussion session\, where we will explore those issues which are important to the profession and matters related to the built and natural environment. The issues discussed will then be forwarded to the prospective local MEP candidates\, who will put forward their policy objectives on the issues raised by the participants. This will help each one of us to vote wisely on those issues which matter to us. \nThis event is open to periti\, students and graduates of the Faculty for the Built Environment\, as well as the general public. \nPlaces are limited\, so kindly book your place by using the registration window. \nFor further information on the European Parliament’s campaign visit www.thistimeimvoting.eu
URL:https://kamratalperiti.org/event/this-time-im-voting/
LOCATION:Europa House\, St Paul Street\, Valletta\, Malta
CATEGORIES:Seminar
ATTACH;FMTTYPE=image/jpeg:https://kamratalperiti.org/wp-content/uploads/This-time-Im-voting_KTP.jpg
ORGANIZER;CN="European%20Parliament%20Office%20in%20Malta":MAILTO:epvalletta@ep.europa.eu
END:VEVENT
END:VCALENDAR