BEGIN:VCALENDAR
VERSION:2.0
PRODID:-//Kamra tal-Periti - ECPv5.16.2.1//NONSGML v1.0//EN
CALSCALE:GREGORIAN
METHOD:PUBLISH
X-WR-CALNAME:Kamra tal-Periti
X-ORIGINAL-URL:https://kamratalperiti.org
X-WR-CALDESC:Events for Kamra tal-Periti
BEGIN:VTIMEZONE
TZID:Europe/Malta
BEGIN:DAYLIGHT
TZOFFSETFROM:+0100
TZOFFSETTO:+0200
TZNAME:CEST
DTSTART:20190331T010000
END:DAYLIGHT
BEGIN:STANDARD
TZOFFSETFROM:+0200
TZOFFSETTO:+0100
TZNAME:CET
DTSTART:20191027T010000
END:STANDARD
END:VTIMEZONE
BEGIN:VEVENT
DTSTART;TZID=Europe/Malta:20190223T183000
DTEND;TZID=Europe/Malta:20190223T210000
DTSTAMP:20260422T183857
CREATED:20190116T165029Z
LAST-MODIFIED:20190129T120428Z
UID:6910-1550946600-1550955600@kamratalperiti.org
SUMMARY:Architecture Alive presents Richard England
DESCRIPTION:Our next Architecture Alive event is coming up and we are pleased to invite the Kamra tal-Periti members to the “Architecture Alive presents Richard England“ design talk that shall be at Palazzo de Piro\, Mdina\, on Saturday 23rd February 2019 at 7pm. \nThe project is hosted by local architectural and urban design firm studjurban and the Planning Authority with the help of Xara Catering and Palazzo de Piro and the support of Kamra tal-Periti\, Places:Design & Living magazine\, and Marsovin. Renowned Maltese architect Richard England\, the invited speaker for the next design talk\, is both a practising architect and professor. He will present a talk titled ‘From the Spirit of Place to Places of Spirit’. \nThe event series was successfully launched on 6th October 2018 at the Maritime Museum with one of Austria’s foremost architects Peter Lorenz and then followed by the second talk by Richard Murphy on 24th November 2018. \nThe third Architecture Alive design talk shall be held at Palazzo de Piro\, Mdina\, on Saturday 23rd February 2019. Doors open at 6.30pm and Richard England’s talk will start at 7pm. This will be followed by questions and drinks provided by Xara Catering and Marsovin. The tickets for this event may be purchased via www.ticketline.com.mt – general admission tickets cost €15. \n  \nKamra tal-Periti paid up members may avail themselves of an exclusive offer – buy 1 ticket and get 1 for free\, by following these instructions: \n\nBuy a ticket at https://www.ticketline.com.mt/bookings/Shows.aspx?ProductionId=636\nSend an email to studio@studjurban.com with proof of the ticket purchase and we will send you the complimentary ticket via email.\n\nThe offer is valid until the stocks lasts. \nPlease do not hesitate to contact us on studio@studjurban.com in case you have any further questions. \n  \nFor more information please visit www.architecture-alive.com
URL:https://kamratalperiti.org/event/architecture-alive-presents-richard-england/
LOCATION:Palazzo de Piro\, 3\, Triq is-Sur\, Mdina\, Malta
CATEGORIES:Seminar
ATTACH;FMTTYPE=image/jpeg:https://kamratalperiti.org/wp-content/uploads/England-KTP.jpg
ORGANIZER;CN="studjurban":MAILTO:studio@studjurban.com
END:VEVENT
END:VCALENDAR