BEGIN:VCALENDAR
VERSION:2.0
PRODID:-//Kamra tal-Periti - ECPv5.16.2.1//NONSGML v1.0//EN
CALSCALE:GREGORIAN
METHOD:PUBLISH
X-WR-CALNAME:Kamra tal-Periti
X-ORIGINAL-URL:https://kamratalperiti.org
X-WR-CALDESC:Events for Kamra tal-Periti
BEGIN:VTIMEZONE
TZID:Europe/Malta
BEGIN:DAYLIGHT
TZOFFSETFROM:+0100
TZOFFSETTO:+0200
TZNAME:CEST
DTSTART:20190331T010000
END:DAYLIGHT
BEGIN:STANDARD
TZOFFSETFROM:+0200
TZOFFSETTO:+0100
TZNAME:CET
DTSTART:20191027T010000
END:STANDARD
END:VTIMEZONE
BEGIN:VEVENT
DTSTART;TZID=Europe/Malta:20190417T183000
DTEND;TZID=Europe/Malta:20190417T203000
DTSTAMP:20260422T150521
CREATED:20190416T082907Z
LAST-MODIFIED:20190416T082912Z
UID:7303-1555525800-1555533000@kamratalperiti.org
SUMMARY:Architecture Alive presents William J.R Curtis
DESCRIPTION:Our next Architecture Alive event is coming up and we are pleased to invite the Kamra tal-Periti members to the “Architecture Alive presents William J.R Curtis“ design talk that shall be at Aula Prima\, University of Malta\, Valletta Campus\, on Wednesday 17th April 2019 at 6:30pm. \nThe project is hosted by local architectural and urban design firm studjurban and the Planning Authority with the support of Kamra tal-Periti and Places:Design & Living magazine. World-renowned architectural historian\, leading expert on Le Corbusier\, and author of best-selling publication ‘Modern Architecture since 1900’\, Professor William J.R. Curtis will be delivering a presentation titled: ‘On Transforming Le Corbusier: the Continuing Presence of his Creative Universe’ \nThe event series has so far featured Peter Lorenz\, Richard Murphy and Richard England. The fourth Architecture Alive design talk shall be held at University of Malta\, Valletta Campus\, on Wednesday 17th April 2019. Doors open at 6pm and William J.R Curtis’s talk will start at 6:30pm. This will be followed by questions and drinks. The tickets for this event may be purchased via http://ticketline.com.mt/bookings/Shows.aspx?ProductionId=669   – general admission tickets cost €15. \n  \nKamra tal-Periti paid up members may avail themselves of an exclusive offer – buy 1 ticket and get 1 for free\, by following these instructions: \n\nBuy a ticket at http://ticketline.com.mt/bookings/Shows.aspx?ProductionId=669\nSend an email to studio@studjurban.com with proof of the ticket purchase and we will send you the complimentary ticket via email.\n\nThe offer is valid until the stocks lasts. \nPlease do not hesitate to contact us on studio@studjurban.com in case you have any further questions. \n  \nFor more information please visit www.architecture-alive.com
URL:https://kamratalperiti.org/event/architecture-alive-presents-william-j-r-curtis/
LOCATION:University of Malta (Valletta Campus)\, University of Malta (Valletta Campus) St Paul's Street\, Valletta\, Malta
CATEGORIES:Seminar
ATTACH;FMTTYPE=image/png:https://kamratalperiti.org/wp-content/uploads/William-J.R-Curtis-Banner.png
ORGANIZER;CN="studjurban":MAILTO:studio@studjurban.com
END:VEVENT
END:VCALENDAR