BEGIN:VCALENDAR
VERSION:2.0
PRODID:-//Kamra tal-Periti - ECPv5.16.2.1//NONSGML v1.0//EN
CALSCALE:GREGORIAN
METHOD:PUBLISH
X-WR-CALNAME:Kamra tal-Periti
X-ORIGINAL-URL:https://kamratalperiti.org
X-WR-CALDESC:Events for Kamra tal-Periti
BEGIN:VTIMEZONE
TZID:Europe/Malta
BEGIN:DAYLIGHT
TZOFFSETFROM:+0100
TZOFFSETTO:+0200
TZNAME:CEST
DTSTART:20250330T010000
END:DAYLIGHT
BEGIN:STANDARD
TZOFFSETFROM:+0200
TZOFFSETTO:+0100
TZNAME:CET
DTSTART:20251026T010000
END:STANDARD
END:VTIMEZONE
BEGIN:VEVENT
DTSTART;VALUE=DATE:20251020
DTEND;VALUE=DATE:20251026
DTSTAMP:20260421T105325
CREATED:20250929T151451Z
LAST-MODIFIED:20250930T124938Z
UID:22366-1760918400-1761436799@kamratalperiti.org
SUMMARY:Premju Galizia 2025: Open-Air Exhibition of Finalists
DESCRIPTION:A curated exhibition showcasing the finalist entries of Premju E.L. Galizia 2025 will be on display throughout the week across two locations within the Villa Bighi grounds. From Monday 20 to Thursday 24 October\, the exhibition will be set up at the entrance forecourt of Esplora\, welcoming visitors as they arrive at the centre. From Friday 24 to Saturday 25 October\, the exhibition will move to the Plaza of Villa Bighi\, forming part of the setting for the Awards presentations and ceremony. \nThe exhibition offers an accessible opportunity to engage with the ideas\, processes\, and ambitions of this year’s shortlisted works. Visitors are invited to explore the projects in their own time and reflect on the role of architecture in shaping the shared environment.
URL:https://kamratalperiti.org/event/premju-galizia-2025-open-air-exhibition-of-finalists/
LOCATION:Villa Bighi\, Dawret Fra Giovanni Bichi\, Il-Kalkara\, KKR 1320\, Malta
CATEGORIES:Exhibition
ATTACH;FMTTYPE=image/jpeg:https://kamratalperiti.org/wp-content/uploads/ELGA25_EventsBanner-scaled.jpg
ORGANIZER;CN="Kamra%20tal-Periti":MAILTO:info@kamratalperiti.org
END:VEVENT
BEGIN:VEVENT
DTSTART;TZID=Europe/Malta:20251025T180000
DTEND;TZID=Europe/Malta:20251025T230000
DTSTAMP:20260421T105325
CREATED:20250929T151622Z
LAST-MODIFIED:20250930T091816Z
UID:22383-1761415200-1761433200@kamratalperiti.org
SUMMARY:Premju Galizia 2025 Awards Night
DESCRIPTION:The 2025 edition of Premju E.L. Galizia culminates in an evening ceremony at Villa Bighi. The event opens with a formal seated awards ceremony in the plaza\, where the winning projects will be announced and recognised for their contribution to professional excellence. \nThe ceremony will be followed by a reception on the terraces of Villa Bighi\, accompanied by a live performance from local jazz ensemble NOIR. This gathering brings together peers\, practitioners\, and invited guests in celebration of excellence.
URL:https://kamratalperiti.org/event/premju-galizia-2025-awards-night/
LOCATION:Villa Bighi\, Dawret Fra Giovanni Bichi\, Il-Kalkara\, KKR 1320\, Malta
CATEGORIES:Awards Night,Social Event
ATTACH;FMTTYPE=image/jpeg:https://kamratalperiti.org/wp-content/uploads/ELGA25_EventsBanner-scaled.jpg
ORGANIZER;CN="Kamra%20tal-Periti":MAILTO:info@kamratalperiti.org
END:VEVENT
END:VCALENDAR